BEGIN:VCALENDAR
VERSION:2.0
PRODID:https://www.kufer.de/kuferweb / DE
METHOD:PUBLISH
CALSCALE:GREGORIAN
X-WR-TIMEZONE:Europe/Berlin
BEGIN:VTIMEZONE
TZID:Europe/Berlin
X-LIC-LOCATION:Europe/Berlin
BEGIN:DAYLIGHT
TZOFFSETFROM:+0100
TZOFFSETTO:+0200
TZNAME:CEST
DTSTART:19700329T020000
RRULE:FREQ=YEARLY;INTERVAL=1;BYDAY=-1SU;BYMONTH=3
END:DAYLIGHT
BEGIN:STANDARD
TZOFFSETFROM:+0200
TZOFFSETTO:+0100
TZNAME:CET
DTSTART:19701025T030000
RRULE:FREQ=YEARLY;INTERVAL=1;BYDAY=-1SU;BYMONTH=10
END:STANDARD
END:VTIMEZONE
BEGIN:VEVENT
DTSTAMP:20260419T151617
DTSTART;TZID=Europe/Berlin:20260416T190000
DTEND;TZID=Europe/Berlin:20260416T203000
UID:262-48118-20260416T190000@VHSLANDKREIS KONSTANZ EV
SUMMARY:Spanisch A1 - Auffrischung Con gusto nuevo A1 Trainingsbuch (262-48118) 
LOCATION:Radolfzell; vhs, Raum 3, Schützenstraße 84, 4. OG, 78315 Radolfzell am Bodensee 
END:VEVENT
BEGIN:VEVENT
DTSTAMP:20260419T151617
DTSTART;TZID=Europe/Berlin:20260423T190000
DTEND;TZID=Europe/Berlin:20260423T203000
UID:262-48118-20260423T190000@VHSLANDKREIS KONSTANZ EV
SUMMARY:Spanisch A1 - Auffrischung Con gusto nuevo A1 Trainingsbuch (262-48118) 
LOCATION:Radolfzell; vhs, Raum 3, Schützenstraße 84, 4. OG, 78315 Radolfzell am Bodensee 
END:VEVENT
BEGIN:VEVENT
DTSTAMP:20260419T151617
DTSTART;TZID=Europe/Berlin:20260430T190000
DTEND;TZID=Europe/Berlin:20260430T203000
UID:262-48118-20260430T190000@VHSLANDKREIS KONSTANZ EV
SUMMARY:Spanisch A1 - Auffrischung Con gusto nuevo A1 Trainingsbuch (262-48118) 
LOCATION:Radolfzell; vhs, Raum 3, Schützenstraße 84, 4. OG, 78315 Radolfzell am Bodensee 
END:VEVENT
BEGIN:VEVENT
DTSTAMP:20260419T151617
DTSTART;TZID=Europe/Berlin:20260507T190000
DTEND;TZID=Europe/Berlin:20260507T203000
UID:262-48118-20260507T190000@VHSLANDKREIS KONSTANZ EV
SUMMARY:Spanisch A1 - Auffrischung Con gusto nuevo A1 Trainingsbuch (262-48118) 
LOCATION:Radolfzell; vhs, Raum 3, Schützenstraße 84, 4. OG, 78315 Radolfzell am Bodensee 
END:VEVENT
BEGIN:VEVENT
DTSTAMP:20260419T151617
DTSTART;TZID=Europe/Berlin:20260521T190000
DTEND;TZID=Europe/Berlin:20260521T203000
UID:262-48118-20260521T190000@VHSLANDKREIS KONSTANZ EV
SUMMARY:Spanisch A1 - Auffrischung Con gusto nuevo A1 Trainingsbuch (262-48118) 
LOCATION:Radolfzell; vhs, Raum 3, Schützenstraße 84, 4. OG, 78315 Radolfzell am Bodensee 
END:VEVENT
BEGIN:VEVENT
DTSTAMP:20260419T151617
DTSTART;TZID=Europe/Berlin:20260611T190000
DTEND;TZID=Europe/Berlin:20260611T203000
UID:262-48118-20260611T190000@VHSLANDKREIS KONSTANZ EV
SUMMARY:Spanisch A1 - Auffrischung Con gusto nuevo A1 Trainingsbuch (262-48118) 
LOCATION:Radolfzell; vhs, Raum 3, Schützenstraße 84, 4. OG, 78315 Radolfzell am Bodensee 
END:VEVENT
BEGIN:VEVENT
DTSTAMP:20260419T151617
DTSTART;TZID=Europe/Berlin:20260618T190000
DTEND;TZID=Europe/Berlin:20260618T203000
UID:262-48118-20260618T190000@VHSLANDKREIS KONSTANZ EV
SUMMARY:Spanisch A1 - Auffrischung Con gusto nuevo A1 Trainingsbuch (262-48118) 
LOCATION:Radolfzell; vhs, Raum 3, Schützenstraße 84, 4. OG, 78315 Radolfzell am Bodensee 
END:VEVENT
BEGIN:VEVENT
DTSTAMP:20260419T151617
DTSTART;TZID=Europe/Berlin:20260625T190000
DTEND;TZID=Europe/Berlin:20260625T203000
UID:262-48118-20260625T190000@VHSLANDKREIS KONSTANZ EV
SUMMARY:Spanisch A1 - Auffrischung Con gusto nuevo A1 Trainingsbuch (262-48118) 
LOCATION:Radolfzell; vhs, Raum 3, Schützenstraße 84, 4. OG, 78315 Radolfzell am Bodensee 
END:VEVENT
BEGIN:VEVENT
DTSTAMP:20260419T151617
DTSTART;TZID=Europe/Berlin:20260702T190000
DTEND;TZID=Europe/Berlin:20260702T203000
UID:262-48118-20260702T190000@VHSLANDKREIS KONSTANZ EV
SUMMARY:Spanisch A1 - Auffrischung Con gusto nuevo A1 Trainingsbuch (262-48118) 
LOCATION:Radolfzell; vhs, Raum 3, Schützenstraße 84, 4. OG, 78315 Radolfzell am Bodensee 
END:VEVENT
BEGIN:VEVENT
DTSTAMP:20260419T151617
DTSTART;TZID=Europe/Berlin:20260709T190000
DTEND;TZID=Europe/Berlin:20260709T203000
UID:262-48118-20260709T190000@VHSLANDKREIS KONSTANZ EV
SUMMARY:Spanisch A1 - Auffrischung Con gusto nuevo A1 Trainingsbuch (262-48118) 
LOCATION:Radolfzell; vhs, Raum 3, Schützenstraße 84, 4. OG, 78315 Radolfzell am Bodensee 
END:VEVENT
BEGIN:VEVENT
DTSTAMP:20260419T151617
DTSTART;TZID=Europe/Berlin:20260716T190000
DTEND;TZID=Europe/Berlin:20260716T203000
UID:262-48118-20260716T190000@VHSLANDKREIS KONSTANZ EV
SUMMARY:Spanisch A1 - Auffrischung Con gusto nuevo A1 Trainingsbuch (262-48118) 
LOCATION:Radolfzell; vhs, Raum 3, Schützenstraße 84, 4. OG, 78315 Radolfzell am Bodensee 
END:VEVENT
BEGIN:VEVENT
DTSTAMP:20260419T151617
DTSTART;TZID=Europe/Berlin:20260723T190000
DTEND;TZID=Europe/Berlin:20260723T203000
UID:262-48118-20260723T190000@VHSLANDKREIS KONSTANZ EV
SUMMARY:Spanisch A1 - Auffrischung Con gusto nuevo A1 Trainingsbuch (262-48118) 
LOCATION:Radolfzell; vhs, Raum 3, Schützenstraße 84, 4. OG, 78315 Radolfzell am Bodensee 
END:VEVENT
END:VCALENDAR