BEGIN:VCALENDAR
VERSION:2.0
PRODID:https://www.kufer.de/kuferweb / DE
METHOD:PUBLISH
CALSCALE:GREGORIAN
X-WR-TIMEZONE:Europe/Berlin
BEGIN:VTIMEZONE
TZID:Europe/Berlin
X-LIC-LOCATION:Europe/Berlin
BEGIN:DAYLIGHT
TZOFFSETFROM:+0100
TZOFFSETTO:+0200
TZNAME:CEST
DTSTART:19700329T020000
RRULE:FREQ=YEARLY;INTERVAL=1;BYDAY=-1SU;BYMONTH=3
END:DAYLIGHT
BEGIN:STANDARD
TZOFFSETFROM:+0200
TZOFFSETTO:+0100
TZNAME:CET
DTSTART:19701025T030000
RRULE:FREQ=YEARLY;INTERVAL=1;BYDAY=-1SU;BYMONTH=10
END:STANDARD
END:VTIMEZONE
BEGIN:VEVENT
DTSTAMP:20260423T111620
DTSTART;TZID=Europe/Berlin:20260413T095000
DTEND;TZID=Europe/Berlin:20260413T112000
UID:262-44200-20260413T095000@VHSLANDKREIS KONSTANZ EV
SUMMARY:Französisch A2  Konversation Parler, discuter, communiquer (262-44200) 
LOCATION:Radolfzell; vhs, Raum 2, Schützenstraße 84, 4. OG, 78315 Radolfzell am Bodensee 
END:VEVENT
BEGIN:VEVENT
DTSTAMP:20260423T111620
DTSTART;TZID=Europe/Berlin:20260420T095000
DTEND;TZID=Europe/Berlin:20260420T112000
UID:262-44200-20260420T095000@VHSLANDKREIS KONSTANZ EV
SUMMARY:Französisch A2  Konversation Parler, discuter, communiquer (262-44200) 
LOCATION:Radolfzell; vhs, Raum 2, Schützenstraße 84, 4. OG, 78315 Radolfzell am Bodensee 
END:VEVENT
BEGIN:VEVENT
DTSTAMP:20260423T111620
DTSTART;TZID=Europe/Berlin:20260427T095000
DTEND;TZID=Europe/Berlin:20260427T112000
UID:262-44200-20260427T095000@VHSLANDKREIS KONSTANZ EV
SUMMARY:Französisch A2  Konversation Parler, discuter, communiquer (262-44200) 
LOCATION:Radolfzell; vhs, Raum 2, Schützenstraße 84, 4. OG, 78315 Radolfzell am Bodensee 
END:VEVENT
BEGIN:VEVENT
DTSTAMP:20260423T111620
DTSTART;TZID=Europe/Berlin:20260504T095000
DTEND;TZID=Europe/Berlin:20260504T112000
UID:262-44200-20260504T095000@VHSLANDKREIS KONSTANZ EV
SUMMARY:Französisch A2  Konversation Parler, discuter, communiquer (262-44200) 
LOCATION:Radolfzell; vhs, Raum 2, Schützenstraße 84, 4. OG, 78315 Radolfzell am Bodensee 
END:VEVENT
BEGIN:VEVENT
DTSTAMP:20260423T111620
DTSTART;TZID=Europe/Berlin:20260511T095000
DTEND;TZID=Europe/Berlin:20260511T112000
UID:262-44200-20260511T095000@VHSLANDKREIS KONSTANZ EV
SUMMARY:Französisch A2  Konversation Parler, discuter, communiquer (262-44200) 
LOCATION:Radolfzell; vhs, Raum 2, Schützenstraße 84, 4. OG, 78315 Radolfzell am Bodensee 
END:VEVENT
BEGIN:VEVENT
DTSTAMP:20260423T111620
DTSTART;TZID=Europe/Berlin:20260518T095000
DTEND;TZID=Europe/Berlin:20260518T112000
UID:262-44200-20260518T095000@VHSLANDKREIS KONSTANZ EV
SUMMARY:Französisch A2  Konversation Parler, discuter, communiquer (262-44200) 
LOCATION:Radolfzell; vhs, Raum 2, Schützenstraße 84, 4. OG, 78315 Radolfzell am Bodensee 
END:VEVENT
BEGIN:VEVENT
DTSTAMP:20260423T111620
DTSTART;TZID=Europe/Berlin:20260608T095000
DTEND;TZID=Europe/Berlin:20260608T112000
UID:262-44200-20260608T095000@VHSLANDKREIS KONSTANZ EV
SUMMARY:Französisch A2  Konversation Parler, discuter, communiquer (262-44200) 
LOCATION:Radolfzell; vhs, Raum 2, Schützenstraße 84, 4. OG, 78315 Radolfzell am Bodensee 
END:VEVENT
BEGIN:VEVENT
DTSTAMP:20260423T111620
DTSTART;TZID=Europe/Berlin:20260615T095000
DTEND;TZID=Europe/Berlin:20260615T112000
UID:262-44200-20260615T095000@VHSLANDKREIS KONSTANZ EV
SUMMARY:Französisch A2  Konversation Parler, discuter, communiquer (262-44200) 
LOCATION:Radolfzell; vhs, Raum 2, Schützenstraße 84, 4. OG, 78315 Radolfzell am Bodensee 
END:VEVENT
BEGIN:VEVENT
DTSTAMP:20260423T111620
DTSTART;TZID=Europe/Berlin:20260622T095000
DTEND;TZID=Europe/Berlin:20260622T112000
UID:262-44200-20260622T095000@VHSLANDKREIS KONSTANZ EV
SUMMARY:Französisch A2  Konversation Parler, discuter, communiquer (262-44200) 
LOCATION:Radolfzell; vhs, Raum 2, Schützenstraße 84, 4. OG, 78315 Radolfzell am Bodensee 
END:VEVENT
BEGIN:VEVENT
DTSTAMP:20260423T111620
DTSTART;TZID=Europe/Berlin:20260629T095000
DTEND;TZID=Europe/Berlin:20260629T112000
UID:262-44200-20260629T095000@VHSLANDKREIS KONSTANZ EV
SUMMARY:Französisch A2  Konversation Parler, discuter, communiquer (262-44200) 
LOCATION:Radolfzell; vhs, Raum 2, Schützenstraße 84, 4. OG, 78315 Radolfzell am Bodensee 
END:VEVENT
END:VCALENDAR