BEGIN:VCALENDAR
VERSION:2.0
PRODID:https://www.kufer.de/kuferweb / DE
METHOD:PUBLISH
CALSCALE:GREGORIAN
X-WR-TIMEZONE:Europe/Berlin
BEGIN:VTIMEZONE
TZID:Europe/Berlin
X-LIC-LOCATION:Europe/Berlin
BEGIN:DAYLIGHT
TZOFFSETFROM:+0100
TZOFFSETTO:+0200
TZNAME:CEST
DTSTART:19700329T020000
RRULE:FREQ=YEARLY;INTERVAL=1;BYDAY=-1SU;BYMONTH=3
END:DAYLIGHT
BEGIN:STANDARD
TZOFFSETFROM:+0200
TZOFFSETTO:+0100
TZNAME:CET
DTSTART:19701025T030000
RRULE:FREQ=YEARLY;INTERVAL=1;BYDAY=-1SU;BYMONTH=10
END:STANDARD
END:VTIMEZONE
BEGIN:VEVENT
DTSTAMP:20260419T194753
DTSTART;TZID=Europe/Berlin:20260417T103000
DTEND;TZID=Europe/Berlin:20260417T113000
UID:262-320545-20260417T103000@VHSLANDKREIS KONSTANZ EV
SUMMARY:Pilates Für Teilnehmende mit Pilateserfahrung (262-320545) 
LOCATION:Konstanz; Petershaus, Bewegungsraum, Bruder-Klaus-Str. 8, 78467 Konstanz
END:VEVENT
BEGIN:VEVENT
DTSTAMP:20260419T194753
DTSTART;TZID=Europe/Berlin:20260424T103000
DTEND;TZID=Europe/Berlin:20260424T113000
UID:262-320545-20260424T103000@VHSLANDKREIS KONSTANZ EV
SUMMARY:Pilates Für Teilnehmende mit Pilateserfahrung (262-320545) 
LOCATION:Konstanz; Petershaus, Bewegungsraum, Bruder-Klaus-Str. 8, 78467 Konstanz
END:VEVENT
BEGIN:VEVENT
DTSTAMP:20260419T194753
DTSTART;TZID=Europe/Berlin:20260508T103000
DTEND;TZID=Europe/Berlin:20260508T113000
UID:262-320545-20260508T103000@VHSLANDKREIS KONSTANZ EV
SUMMARY:Pilates Für Teilnehmende mit Pilateserfahrung (262-320545) 
LOCATION:Konstanz; Petershaus, Bewegungsraum, Bruder-Klaus-Str. 8, 78467 Konstanz
END:VEVENT
BEGIN:VEVENT
DTSTAMP:20260419T194753
DTSTART;TZID=Europe/Berlin:20260522T103000
DTEND;TZID=Europe/Berlin:20260522T113000
UID:262-320545-20260522T103000@VHSLANDKREIS KONSTANZ EV
SUMMARY:Pilates Für Teilnehmende mit Pilateserfahrung (262-320545) 
LOCATION:Konstanz; Petershaus, Bewegungsraum, Bruder-Klaus-Str. 8, 78467 Konstanz
END:VEVENT
BEGIN:VEVENT
DTSTAMP:20260419T194753
DTSTART;TZID=Europe/Berlin:20260529T103000
DTEND;TZID=Europe/Berlin:20260529T113000
UID:262-320545-20260529T103000@VHSLANDKREIS KONSTANZ EV
SUMMARY:Pilates Für Teilnehmende mit Pilateserfahrung (262-320545) 
LOCATION:Konstanz; Petershaus, Bewegungsraum, Bruder-Klaus-Str. 8, 78467 Konstanz
END:VEVENT
BEGIN:VEVENT
DTSTAMP:20260419T194753
DTSTART;TZID=Europe/Berlin:20260612T103000
DTEND;TZID=Europe/Berlin:20260612T113000
UID:262-320545-20260612T103000@VHSLANDKREIS KONSTANZ EV
SUMMARY:Pilates Für Teilnehmende mit Pilateserfahrung (262-320545) 
LOCATION:Konstanz; Petershaus, Bewegungsraum, Bruder-Klaus-Str. 8, 78467 Konstanz
END:VEVENT
BEGIN:VEVENT
DTSTAMP:20260419T194753
DTSTART;TZID=Europe/Berlin:20260619T103000
DTEND;TZID=Europe/Berlin:20260619T113000
UID:262-320545-20260619T103000@VHSLANDKREIS KONSTANZ EV
SUMMARY:Pilates Für Teilnehmende mit Pilateserfahrung (262-320545) 
LOCATION:Konstanz; Petershaus, Bewegungsraum, Bruder-Klaus-Str. 8, 78467 Konstanz
END:VEVENT
BEGIN:VEVENT
DTSTAMP:20260419T194753
DTSTART;TZID=Europe/Berlin:20260626T103000
DTEND;TZID=Europe/Berlin:20260626T113000
UID:262-320545-20260626T103000@VHSLANDKREIS KONSTANZ EV
SUMMARY:Pilates Für Teilnehmende mit Pilateserfahrung (262-320545) 
LOCATION:Konstanz; Petershaus, Bewegungsraum, Bruder-Klaus-Str. 8, 78467 Konstanz
END:VEVENT
BEGIN:VEVENT
DTSTAMP:20260419T194753
DTSTART;TZID=Europe/Berlin:20260703T103000
DTEND;TZID=Europe/Berlin:20260703T113000
UID:262-320545-20260703T103000@VHSLANDKREIS KONSTANZ EV
SUMMARY:Pilates Für Teilnehmende mit Pilateserfahrung (262-320545) 
LOCATION:Konstanz; Petershaus, Bewegungsraum, Bruder-Klaus-Str. 8, 78467 Konstanz
END:VEVENT
BEGIN:VEVENT
DTSTAMP:20260419T194753
DTSTART;TZID=Europe/Berlin:20260710T103000
DTEND;TZID=Europe/Berlin:20260710T113000
UID:262-320545-20260710T103000@VHSLANDKREIS KONSTANZ EV
SUMMARY:Pilates Für Teilnehmende mit Pilateserfahrung (262-320545) 
LOCATION:Konstanz; Petershaus, Bewegungsraum, Bruder-Klaus-Str. 8, 78467 Konstanz
END:VEVENT
BEGIN:VEVENT
DTSTAMP:20260419T194753
DTSTART;TZID=Europe/Berlin:20260717T103000
DTEND;TZID=Europe/Berlin:20260717T113000
UID:262-320545-20260717T103000@VHSLANDKREIS KONSTANZ EV
SUMMARY:Pilates Für Teilnehmende mit Pilateserfahrung (262-320545) 
LOCATION:Konstanz; Petershaus, Bewegungsraum, Bruder-Klaus-Str. 8, 78467 Konstanz
END:VEVENT
BEGIN:VEVENT
DTSTAMP:20260419T194753
DTSTART;TZID=Europe/Berlin:20260724T103000
DTEND;TZID=Europe/Berlin:20260724T113000
UID:262-320545-20260724T103000@VHSLANDKREIS KONSTANZ EV
SUMMARY:Pilates Für Teilnehmende mit Pilateserfahrung (262-320545) 
LOCATION:Konstanz; Petershaus, Bewegungsraum, Bruder-Klaus-Str. 8, 78467 Konstanz
END:VEVENT
END:VCALENDAR