BEGIN:VCALENDAR
VERSION:2.0
PRODID:https://www.kufer.de/kuferweb / DE
METHOD:PUBLISH
CALSCALE:GREGORIAN
X-WR-TIMEZONE:Europe/Berlin
BEGIN:VTIMEZONE
TZID:Europe/Berlin
X-LIC-LOCATION:Europe/Berlin
BEGIN:DAYLIGHT
TZOFFSETFROM:+0100
TZOFFSETTO:+0200
TZNAME:CEST
DTSTART:19700329T020000
RRULE:FREQ=YEARLY;INTERVAL=1;BYDAY=-1SU;BYMONTH=3
END:DAYLIGHT
BEGIN:STANDARD
TZOFFSETFROM:+0200
TZOFFSETTO:+0100
TZNAME:CET
DTSTART:19701025T030000
RRULE:FREQ=YEARLY;INTERVAL=1;BYDAY=-1SU;BYMONTH=10
END:STANDARD
END:VTIMEZONE
BEGIN:VEVENT
DTSTAMP:20260419T164527
DTSTART;TZID=Europe/Berlin:20260415T174500
DTEND;TZID=Europe/Berlin:20260415T184500
UID:262-320533-20260415T174500@VHSLANDKREIS KONSTANZ EV
SUMMARY:Pilates  für leicht Fortgeschrittene (262-320533) 
LOCATION:Konstanz; Petershaus, Bewegungsraum, Bruder-Klaus-Str. 8, 78467 Konstanz
END:VEVENT
BEGIN:VEVENT
DTSTAMP:20260419T164527
DTSTART;TZID=Europe/Berlin:20260422T174500
DTEND;TZID=Europe/Berlin:20260422T184500
UID:262-320533-20260422T174500@VHSLANDKREIS KONSTANZ EV
SUMMARY:Pilates  für leicht Fortgeschrittene (262-320533) 
LOCATION:Konstanz; Petershaus, Bewegungsraum, Bruder-Klaus-Str. 8, 78467 Konstanz
END:VEVENT
BEGIN:VEVENT
DTSTAMP:20260419T164527
DTSTART;TZID=Europe/Berlin:20260429T174500
DTEND;TZID=Europe/Berlin:20260429T184500
UID:262-320533-20260429T174500@VHSLANDKREIS KONSTANZ EV
SUMMARY:Pilates  für leicht Fortgeschrittene (262-320533) 
LOCATION:Konstanz; Petershaus, Bewegungsraum, Bruder-Klaus-Str. 8, 78467 Konstanz
END:VEVENT
BEGIN:VEVENT
DTSTAMP:20260419T164527
DTSTART;TZID=Europe/Berlin:20260506T174500
DTEND;TZID=Europe/Berlin:20260506T184500
UID:262-320533-20260506T174500@VHSLANDKREIS KONSTANZ EV
SUMMARY:Pilates  für leicht Fortgeschrittene (262-320533) 
LOCATION:Konstanz; Petershaus, Bewegungsraum, Bruder-Klaus-Str. 8, 78467 Konstanz
END:VEVENT
BEGIN:VEVENT
DTSTAMP:20260419T164527
DTSTART;TZID=Europe/Berlin:20260513T174500
DTEND;TZID=Europe/Berlin:20260513T184500
UID:262-320533-20260513T174500@VHSLANDKREIS KONSTANZ EV
SUMMARY:Pilates  für leicht Fortgeschrittene (262-320533) 
LOCATION:Konstanz; Petershaus, Bewegungsraum, Bruder-Klaus-Str. 8, 78467 Konstanz
END:VEVENT
BEGIN:VEVENT
DTSTAMP:20260419T164527
DTSTART;TZID=Europe/Berlin:20260520T174500
DTEND;TZID=Europe/Berlin:20260520T184500
UID:262-320533-20260520T174500@VHSLANDKREIS KONSTANZ EV
SUMMARY:Pilates  für leicht Fortgeschrittene (262-320533) 
LOCATION:Konstanz; Petershaus, Bewegungsraum, Bruder-Klaus-Str. 8, 78467 Konstanz
END:VEVENT
BEGIN:VEVENT
DTSTAMP:20260419T164527
DTSTART;TZID=Europe/Berlin:20260610T174500
DTEND;TZID=Europe/Berlin:20260610T184500
UID:262-320533-20260610T174500@VHSLANDKREIS KONSTANZ EV
SUMMARY:Pilates  für leicht Fortgeschrittene (262-320533) 
LOCATION:Konstanz; Petershaus, Bewegungsraum, Bruder-Klaus-Str. 8, 78467 Konstanz
END:VEVENT
BEGIN:VEVENT
DTSTAMP:20260419T164527
DTSTART;TZID=Europe/Berlin:20260617T174500
DTEND;TZID=Europe/Berlin:20260617T184500
UID:262-320533-20260617T174500@VHSLANDKREIS KONSTANZ EV
SUMMARY:Pilates  für leicht Fortgeschrittene (262-320533) 
LOCATION:Konstanz; Petershaus, Bewegungsraum, Bruder-Klaus-Str. 8, 78467 Konstanz
END:VEVENT
BEGIN:VEVENT
DTSTAMP:20260419T164527
DTSTART;TZID=Europe/Berlin:20260624T174500
DTEND;TZID=Europe/Berlin:20260624T184500
UID:262-320533-20260624T174500@VHSLANDKREIS KONSTANZ EV
SUMMARY:Pilates  für leicht Fortgeschrittene (262-320533) 
LOCATION:Konstanz; Petershaus, Bewegungsraum, Bruder-Klaus-Str. 8, 78467 Konstanz
END:VEVENT
BEGIN:VEVENT
DTSTAMP:20260419T164527
DTSTART;TZID=Europe/Berlin:20260701T174500
DTEND;TZID=Europe/Berlin:20260701T184500
UID:262-320533-20260701T174500@VHSLANDKREIS KONSTANZ EV
SUMMARY:Pilates  für leicht Fortgeschrittene (262-320533) 
LOCATION:Konstanz; Petershaus, Bewegungsraum, Bruder-Klaus-Str. 8, 78467 Konstanz
END:VEVENT
BEGIN:VEVENT
DTSTAMP:20260419T164527
DTSTART;TZID=Europe/Berlin:20260708T174500
DTEND;TZID=Europe/Berlin:20260708T184500
UID:262-320533-20260708T174500@VHSLANDKREIS KONSTANZ EV
SUMMARY:Pilates  für leicht Fortgeschrittene (262-320533) 
LOCATION:Konstanz; Petershaus, Bewegungsraum, Bruder-Klaus-Str. 8, 78467 Konstanz
END:VEVENT
BEGIN:VEVENT
DTSTAMP:20260419T164527
DTSTART;TZID=Europe/Berlin:20260715T174500
DTEND;TZID=Europe/Berlin:20260715T184500
UID:262-320533-20260715T174500@VHSLANDKREIS KONSTANZ EV
SUMMARY:Pilates  für leicht Fortgeschrittene (262-320533) 
LOCATION:Konstanz; Petershaus, Bewegungsraum, Bruder-Klaus-Str. 8, 78467 Konstanz
END:VEVENT
END:VCALENDAR