BEGIN:VCALENDAR
VERSION:2.0
PRODID:https://www.kufer.de/kuferweb / DE
METHOD:PUBLISH
CALSCALE:GREGORIAN
X-WR-TIMEZONE:Europe/Berlin
BEGIN:VTIMEZONE
TZID:Europe/Berlin
X-LIC-LOCATION:Europe/Berlin
BEGIN:DAYLIGHT
TZOFFSETFROM:+0100
TZOFFSETTO:+0200
TZNAME:CEST
DTSTART:19700329T020000
RRULE:FREQ=YEARLY;INTERVAL=1;BYDAY=-1SU;BYMONTH=3
END:DAYLIGHT
BEGIN:STANDARD
TZOFFSETFROM:+0200
TZOFFSETTO:+0100
TZNAME:CET
DTSTART:19701025T030000
RRULE:FREQ=YEARLY;INTERVAL=1;BYDAY=-1SU;BYMONTH=10
END:STANDARD
END:VTIMEZONE
BEGIN:VEVENT
DTSTAMP:20260419T151736
DTSTART;TZID=Europe/Berlin:20260413T164500
DTEND;TZID=Europe/Berlin:20260413T174500
UID:262-318168-20260413T164500@VHSLANDKREIS KONSTANZ EV
SUMMARY:Qigong Taiji-Qigong für Anfänger (262-318168) 
LOCATION:Singen; vhs, Bewegungsraum, Theodor-Hanloser-Straße 19, 78224 Singen (Hohentwiel) 
END:VEVENT
BEGIN:VEVENT
DTSTAMP:20260419T151736
DTSTART;TZID=Europe/Berlin:20260420T164500
DTEND;TZID=Europe/Berlin:20260420T174500
UID:262-318168-20260420T164500@VHSLANDKREIS KONSTANZ EV
SUMMARY:Qigong Taiji-Qigong für Anfänger (262-318168) 
LOCATION:Singen; vhs, Bewegungsraum, Theodor-Hanloser-Straße 19, 78224 Singen (Hohentwiel) 
END:VEVENT
BEGIN:VEVENT
DTSTAMP:20260419T151736
DTSTART;TZID=Europe/Berlin:20260427T164500
DTEND;TZID=Europe/Berlin:20260427T174500
UID:262-318168-20260427T164500@VHSLANDKREIS KONSTANZ EV
SUMMARY:Qigong Taiji-Qigong für Anfänger (262-318168) 
LOCATION:Singen; vhs, Bewegungsraum, Theodor-Hanloser-Straße 19, 78224 Singen (Hohentwiel) 
END:VEVENT
BEGIN:VEVENT
DTSTAMP:20260419T151736
DTSTART;TZID=Europe/Berlin:20260504T164500
DTEND;TZID=Europe/Berlin:20260504T174500
UID:262-318168-20260504T164500@VHSLANDKREIS KONSTANZ EV
SUMMARY:Qigong Taiji-Qigong für Anfänger (262-318168) 
LOCATION:Singen; vhs, Bewegungsraum, Theodor-Hanloser-Straße 19, 78224 Singen (Hohentwiel) 
END:VEVENT
BEGIN:VEVENT
DTSTAMP:20260419T151736
DTSTART;TZID=Europe/Berlin:20260511T164500
DTEND;TZID=Europe/Berlin:20260511T174500
UID:262-318168-20260511T164500@VHSLANDKREIS KONSTANZ EV
SUMMARY:Qigong Taiji-Qigong für Anfänger (262-318168) 
LOCATION:Singen; vhs, Bewegungsraum, Theodor-Hanloser-Straße 19, 78224 Singen (Hohentwiel) 
END:VEVENT
BEGIN:VEVENT
DTSTAMP:20260419T151736
DTSTART;TZID=Europe/Berlin:20260518T164500
DTEND;TZID=Europe/Berlin:20260518T174500
UID:262-318168-20260518T164500@VHSLANDKREIS KONSTANZ EV
SUMMARY:Qigong Taiji-Qigong für Anfänger (262-318168) 
LOCATION:Singen; vhs, Bewegungsraum, Theodor-Hanloser-Straße 19, 78224 Singen (Hohentwiel) 
END:VEVENT
BEGIN:VEVENT
DTSTAMP:20260419T151736
DTSTART;TZID=Europe/Berlin:20260608T164500
DTEND;TZID=Europe/Berlin:20260608T174500
UID:262-318168-20260608T164500@VHSLANDKREIS KONSTANZ EV
SUMMARY:Qigong Taiji-Qigong für Anfänger (262-318168) 
LOCATION:Singen; vhs, Bewegungsraum, Theodor-Hanloser-Straße 19, 78224 Singen (Hohentwiel) 
END:VEVENT
BEGIN:VEVENT
DTSTAMP:20260419T151736
DTSTART;TZID=Europe/Berlin:20260615T164500
DTEND;TZID=Europe/Berlin:20260615T174500
UID:262-318168-20260615T164500@VHSLANDKREIS KONSTANZ EV
SUMMARY:Qigong Taiji-Qigong für Anfänger (262-318168) 
LOCATION:Singen; vhs, Bewegungsraum, Theodor-Hanloser-Straße 19, 78224 Singen (Hohentwiel) 
END:VEVENT
BEGIN:VEVENT
DTSTAMP:20260419T151736
DTSTART;TZID=Europe/Berlin:20260622T164500
DTEND;TZID=Europe/Berlin:20260622T174500
UID:262-318168-20260622T164500@VHSLANDKREIS KONSTANZ EV
SUMMARY:Qigong Taiji-Qigong für Anfänger (262-318168) 
LOCATION:Singen; vhs, Bewegungsraum, Theodor-Hanloser-Straße 19, 78224 Singen (Hohentwiel) 
END:VEVENT
BEGIN:VEVENT
DTSTAMP:20260419T151736
DTSTART;TZID=Europe/Berlin:20260629T164500
DTEND;TZID=Europe/Berlin:20260629T174500
UID:262-318168-20260629T164500@VHSLANDKREIS KONSTANZ EV
SUMMARY:Qigong Taiji-Qigong für Anfänger (262-318168) 
LOCATION:Singen; vhs, Bewegungsraum, Theodor-Hanloser-Straße 19, 78224 Singen (Hohentwiel) 
END:VEVENT
BEGIN:VEVENT
DTSTAMP:20260419T151736
DTSTART;TZID=Europe/Berlin:20260706T164500
DTEND;TZID=Europe/Berlin:20260706T174500
UID:262-318168-20260706T164500@VHSLANDKREIS KONSTANZ EV
SUMMARY:Qigong Taiji-Qigong für Anfänger (262-318168) 
LOCATION:Singen; vhs, Bewegungsraum, Theodor-Hanloser-Straße 19, 78224 Singen (Hohentwiel) 
END:VEVENT
BEGIN:VEVENT
DTSTAMP:20260419T151736
DTSTART;TZID=Europe/Berlin:20260713T164500
DTEND;TZID=Europe/Berlin:20260713T174500
UID:262-318168-20260713T164500@VHSLANDKREIS KONSTANZ EV
SUMMARY:Qigong Taiji-Qigong für Anfänger (262-318168) 
LOCATION:Singen; vhs, Bewegungsraum, Theodor-Hanloser-Straße 19, 78224 Singen (Hohentwiel) 
END:VEVENT
END:VCALENDAR