BEGIN:VCALENDAR
VERSION:2.0
PRODID:https://www.kufer.de/kuferweb / DE
METHOD:PUBLISH
CALSCALE:GREGORIAN
X-WR-TIMEZONE:Europe/Berlin
BEGIN:VTIMEZONE
TZID:Europe/Berlin
X-LIC-LOCATION:Europe/Berlin
BEGIN:DAYLIGHT
TZOFFSETFROM:+0100
TZOFFSETTO:+0200
TZNAME:CEST
DTSTART:19700329T020000
RRULE:FREQ=YEARLY;INTERVAL=1;BYDAY=-1SU;BYMONTH=3
END:DAYLIGHT
BEGIN:STANDARD
TZOFFSETFROM:+0200
TZOFFSETTO:+0100
TZNAME:CET
DTSTART:19701025T030000
RRULE:FREQ=YEARLY;INTERVAL=1;BYDAY=-1SU;BYMONTH=10
END:STANDARD
END:VTIMEZONE
BEGIN:VEVENT
DTSTAMP:20260420T121133
DTSTART;TZID=Europe/Berlin:20260416T183000
DTEND;TZID=Europe/Berlin:20260416T200000
UID:262-27200-20260416T183000@VHSLANDKREIS KONSTANZ EV
SUMMARY:Häkeln für Anfänger Freude an Handarbeit und Kreativität  Geeignet ab 14 Jahren (262-27200) 
LOCATION:Konstanz; vhs, Raum 2.5, Katzgasse 7, 78462 Konstanz
END:VEVENT
BEGIN:VEVENT
DTSTAMP:20260420T121133
DTSTART;TZID=Europe/Berlin:20260423T183000
DTEND;TZID=Europe/Berlin:20260423T200000
UID:262-27200-20260423T183000@VHSLANDKREIS KONSTANZ EV
SUMMARY:Häkeln für Anfänger Freude an Handarbeit und Kreativität  Geeignet ab 14 Jahren (262-27200) 
LOCATION:Konstanz; vhs, Raum 3.2, Katzgasse 7, 78462 Konstanz
END:VEVENT
BEGIN:VEVENT
DTSTAMP:20260420T121133
DTSTART;TZID=Europe/Berlin:20260430T183000
DTEND;TZID=Europe/Berlin:20260430T200000
UID:262-27200-20260430T183000@VHSLANDKREIS KONSTANZ EV
SUMMARY:Häkeln für Anfänger Freude an Handarbeit und Kreativität  Geeignet ab 14 Jahren (262-27200) 
LOCATION:Konstanz; vhs, Raum 2.5, Katzgasse 7, 78462 Konstanz
END:VEVENT
BEGIN:VEVENT
DTSTAMP:20260420T121133
DTSTART;TZID=Europe/Berlin:20260507T183000
DTEND;TZID=Europe/Berlin:20260507T200000
UID:262-27200-20260507T183000@VHSLANDKREIS KONSTANZ EV
SUMMARY:Häkeln für Anfänger Freude an Handarbeit und Kreativität  Geeignet ab 14 Jahren (262-27200) 
LOCATION:Konstanz; vhs, Raum 3.4, Katzgasse 7, 78462 Konstanz
END:VEVENT
BEGIN:VEVENT
DTSTAMP:20260420T121133
DTSTART;TZID=Europe/Berlin:20260521T183000
DTEND;TZID=Europe/Berlin:20260521T200000
UID:262-27200-20260521T183000@VHSLANDKREIS KONSTANZ EV
SUMMARY:Häkeln für Anfänger Freude an Handarbeit und Kreativität  Geeignet ab 14 Jahren (262-27200) 
LOCATION:Konstanz; vhs, Raum 2.5, Katzgasse 7, 78462 Konstanz
END:VEVENT
BEGIN:VEVENT
DTSTAMP:20260420T121133
DTSTART;TZID=Europe/Berlin:20260528T183000
DTEND;TZID=Europe/Berlin:20260528T200000
UID:262-27200-20260528T183000@VHSLANDKREIS KONSTANZ EV
SUMMARY:Häkeln für Anfänger Freude an Handarbeit und Kreativität  Geeignet ab 14 Jahren (262-27200) 
LOCATION:Konstanz; vhs, Raum 2.5, Katzgasse 7, 78462 Konstanz
END:VEVENT
END:VCALENDAR