BEGIN:VCALENDAR
VERSION:2.0
PRODID:https://www.kufer.de/kuferweb / DE
METHOD:PUBLISH
CALSCALE:GREGORIAN
X-WR-TIMEZONE:Europe/Berlin
BEGIN:VTIMEZONE
TZID:Europe/Berlin
X-LIC-LOCATION:Europe/Berlin
BEGIN:DAYLIGHT
TZOFFSETFROM:+0100
TZOFFSETTO:+0200
TZNAME:CEST
DTSTART:19700329T020000
RRULE:FREQ=YEARLY;INTERVAL=1;BYDAY=-1SU;BYMONTH=3
END:DAYLIGHT
BEGIN:STANDARD
TZOFFSETFROM:+0200
TZOFFSETTO:+0100
TZNAME:CET
DTSTART:19701025T030000
RRULE:FREQ=YEARLY;INTERVAL=1;BYDAY=-1SU;BYMONTH=10
END:STANDARD
END:VTIMEZONE
BEGIN:VEVENT
DTSTAMP:20260421T074205
DTSTART;TZID=Europe/Berlin:20260421T090000
DTEND;TZID=Europe/Berlin:20260421T124500
UID:262-27104-20260421T090000@VHSLANDKREIS KONSTANZ EV
SUMMARY:Nähen für Anfänger und Fortgeschrittene (262-27104) 
LOCATION:Konstanz; vhs, Raum 3.3, Katzgasse 7, 78462 Konstanz
END:VEVENT
BEGIN:VEVENT
DTSTAMP:20260421T074205
DTSTART;TZID=Europe/Berlin:20260428T090000
DTEND;TZID=Europe/Berlin:20260428T124500
UID:262-27104-20260428T090000@VHSLANDKREIS KONSTANZ EV
SUMMARY:Nähen für Anfänger und Fortgeschrittene (262-27104) 
LOCATION:Konstanz; vhs, Raum 3.3, Katzgasse 7, 78462 Konstanz
END:VEVENT
BEGIN:VEVENT
DTSTAMP:20260421T074205
DTSTART;TZID=Europe/Berlin:20260505T090000
DTEND;TZID=Europe/Berlin:20260505T124500
UID:262-27104-20260505T090000@VHSLANDKREIS KONSTANZ EV
SUMMARY:Nähen für Anfänger und Fortgeschrittene (262-27104) 
LOCATION:Konstanz; vhs, Raum 3.3, Katzgasse 7, 78462 Konstanz
END:VEVENT
BEGIN:VEVENT
DTSTAMP:20260421T074205
DTSTART;TZID=Europe/Berlin:20260512T090000
DTEND;TZID=Europe/Berlin:20260512T124500
UID:262-27104-20260512T090000@VHSLANDKREIS KONSTANZ EV
SUMMARY:Nähen für Anfänger und Fortgeschrittene (262-27104) 
LOCATION:Konstanz; vhs, Raum 3.3, Katzgasse 7, 78462 Konstanz
END:VEVENT
BEGIN:VEVENT
DTSTAMP:20260421T074205
DTSTART;TZID=Europe/Berlin:20260519T090000
DTEND;TZID=Europe/Berlin:20260519T124500
UID:262-27104-20260519T090000@VHSLANDKREIS KONSTANZ EV
SUMMARY:Nähen für Anfänger und Fortgeschrittene (262-27104) 
LOCATION:Konstanz; vhs, Raum 3.3, Katzgasse 7, 78462 Konstanz
END:VEVENT
END:VCALENDAR