BEGIN:VCALENDAR
VERSION:2.0
PRODID:https://www.kufer.de/kuferweb / DE
METHOD:PUBLISH
CALSCALE:GREGORIAN
X-WR-TIMEZONE:Europe/Berlin
BEGIN:VTIMEZONE
TZID:Europe/Berlin
X-LIC-LOCATION:Europe/Berlin
BEGIN:DAYLIGHT
TZOFFSETFROM:+0100
TZOFFSETTO:+0200
TZNAME:CEST
DTSTART:19700329T020000
RRULE:FREQ=YEARLY;INTERVAL=1;BYDAY=-1SU;BYMONTH=3
END:DAYLIGHT
BEGIN:STANDARD
TZOFFSETFROM:+0200
TZOFFSETTO:+0100
TZNAME:CET
DTSTART:19701025T030000
RRULE:FREQ=YEARLY;INTERVAL=1;BYDAY=-1SU;BYMONTH=10
END:STANDARD
END:VTIMEZONE
BEGIN:VEVENT
DTSTAMP:20260420T131856
DTSTART;TZID=Europe/Berlin:20260302T180000
DTEND;TZID=Europe/Berlin:20260302T211500
UID:261-4120-1-20260302T180000@VHSLANDKREIS KONSTANZ EV
SUMMARY:Deutsch A1/1 Integrationskurs Modul 1, Teilzeitkurs am Abend (261-4120-1) 
LOCATION:Singen; vhs, Raum O.6, Theodor-Hanloser-Straße 19, 78224 Singen (Hohentwiel) 
END:VEVENT
BEGIN:VEVENT
DTSTAMP:20260420T131856
DTSTART;TZID=Europe/Berlin:20260303T180000
DTEND;TZID=Europe/Berlin:20260303T211500
UID:261-4120-1-20260303T180000@VHSLANDKREIS KONSTANZ EV
SUMMARY:Deutsch A1/1 Integrationskurs Modul 1, Teilzeitkurs am Abend (261-4120-1) 
LOCATION:Singen; vhs, Raum O.6, Theodor-Hanloser-Straße 19, 78224 Singen (Hohentwiel) 
END:VEVENT
BEGIN:VEVENT
DTSTAMP:20260420T131856
DTSTART;TZID=Europe/Berlin:20260304T180000
DTEND;TZID=Europe/Berlin:20260304T211500
UID:261-4120-1-20260304T180000@VHSLANDKREIS KONSTANZ EV
SUMMARY:Deutsch A1/1 Integrationskurs Modul 1, Teilzeitkurs am Abend (261-4120-1) 
LOCATION:Singen; vhs, Raum O.6, Theodor-Hanloser-Straße 19, 78224 Singen (Hohentwiel) 
END:VEVENT
BEGIN:VEVENT
DTSTAMP:20260420T131856
DTSTART;TZID=Europe/Berlin:20260309T180000
DTEND;TZID=Europe/Berlin:20260309T211500
UID:261-4120-1-20260309T180000@VHSLANDKREIS KONSTANZ EV
SUMMARY:Deutsch A1/1 Integrationskurs Modul 1, Teilzeitkurs am Abend (261-4120-1) 
LOCATION:Singen; vhs, Raum O.6, Theodor-Hanloser-Straße 19, 78224 Singen (Hohentwiel) 
END:VEVENT
BEGIN:VEVENT
DTSTAMP:20260420T131856
DTSTART;TZID=Europe/Berlin:20260310T180000
DTEND;TZID=Europe/Berlin:20260310T211500
UID:261-4120-1-20260310T180000@VHSLANDKREIS KONSTANZ EV
SUMMARY:Deutsch A1/1 Integrationskurs Modul 1, Teilzeitkurs am Abend (261-4120-1) 
LOCATION:Singen; vhs, Raum O.6, Theodor-Hanloser-Straße 19, 78224 Singen (Hohentwiel) 
END:VEVENT
BEGIN:VEVENT
DTSTAMP:20260420T131856
DTSTART;TZID=Europe/Berlin:20260311T180000
DTEND;TZID=Europe/Berlin:20260311T211500
UID:261-4120-1-20260311T180000@VHSLANDKREIS KONSTANZ EV
SUMMARY:Deutsch A1/1 Integrationskurs Modul 1, Teilzeitkurs am Abend (261-4120-1) 
LOCATION:Singen; vhs, Raum O.6, Theodor-Hanloser-Straße 19, 78224 Singen (Hohentwiel) 
END:VEVENT
BEGIN:VEVENT
DTSTAMP:20260420T131856
DTSTART;TZID=Europe/Berlin:20260316T180000
DTEND;TZID=Europe/Berlin:20260316T211500
UID:261-4120-1-20260316T180000@VHSLANDKREIS KONSTANZ EV
SUMMARY:Deutsch A1/1 Integrationskurs Modul 1, Teilzeitkurs am Abend (261-4120-1) 
LOCATION:Singen; vhs, Raum O.6, Theodor-Hanloser-Straße 19, 78224 Singen (Hohentwiel) 
END:VEVENT
BEGIN:VEVENT
DTSTAMP:20260420T131856
DTSTART;TZID=Europe/Berlin:20260317T180000
DTEND;TZID=Europe/Berlin:20260317T211500
UID:261-4120-1-20260317T180000@VHSLANDKREIS KONSTANZ EV
SUMMARY:Deutsch A1/1 Integrationskurs Modul 1, Teilzeitkurs am Abend (261-4120-1) 
LOCATION:Singen; vhs, Raum O.6, Theodor-Hanloser-Straße 19, 78224 Singen (Hohentwiel) 
END:VEVENT
BEGIN:VEVENT
DTSTAMP:20260420T131856
DTSTART;TZID=Europe/Berlin:20260318T180000
DTEND;TZID=Europe/Berlin:20260318T211500
UID:261-4120-1-20260318T180000@VHSLANDKREIS KONSTANZ EV
SUMMARY:Deutsch A1/1 Integrationskurs Modul 1, Teilzeitkurs am Abend (261-4120-1) 
LOCATION:Singen; vhs, Raum O.6, Theodor-Hanloser-Straße 19, 78224 Singen (Hohentwiel) 
END:VEVENT
BEGIN:VEVENT
DTSTAMP:20260420T131856
DTSTART;TZID=Europe/Berlin:20260323T180000
DTEND;TZID=Europe/Berlin:20260323T211500
UID:261-4120-1-20260323T180000@VHSLANDKREIS KONSTANZ EV
SUMMARY:Deutsch A1/1 Integrationskurs Modul 1, Teilzeitkurs am Abend (261-4120-1) 
LOCATION:Singen; vhs, Raum O.6, Theodor-Hanloser-Straße 19, 78224 Singen (Hohentwiel) 
END:VEVENT
BEGIN:VEVENT
DTSTAMP:20260420T131856
DTSTART;TZID=Europe/Berlin:20260324T180000
DTEND;TZID=Europe/Berlin:20260324T211500
UID:261-4120-1-20260324T180000@VHSLANDKREIS KONSTANZ EV
SUMMARY:Deutsch A1/1 Integrationskurs Modul 1, Teilzeitkurs am Abend (261-4120-1) 
LOCATION:Singen; vhs, Raum O.6, Theodor-Hanloser-Straße 19, 78224 Singen (Hohentwiel) 
END:VEVENT
BEGIN:VEVENT
DTSTAMP:20260420T131856
DTSTART;TZID=Europe/Berlin:20260325T180000
DTEND;TZID=Europe/Berlin:20260325T211500
UID:261-4120-1-20260325T180000@VHSLANDKREIS KONSTANZ EV
SUMMARY:Deutsch A1/1 Integrationskurs Modul 1, Teilzeitkurs am Abend (261-4120-1) 
LOCATION:Singen; vhs, Raum O.6, Theodor-Hanloser-Straße 19, 78224 Singen (Hohentwiel) 
END:VEVENT
BEGIN:VEVENT
DTSTAMP:20260420T131856
DTSTART;TZID=Europe/Berlin:20260413T180000
DTEND;TZID=Europe/Berlin:20260413T211500
UID:261-4120-1-20260413T180000@VHSLANDKREIS KONSTANZ EV
SUMMARY:Deutsch A1/1 Integrationskurs Modul 1, Teilzeitkurs am Abend (261-4120-1) 
LOCATION:Singen; vhs, Raum O.6, Theodor-Hanloser-Straße 19, 78224 Singen (Hohentwiel) 
END:VEVENT
BEGIN:VEVENT
DTSTAMP:20260420T131856
DTSTART;TZID=Europe/Berlin:20260414T180000
DTEND;TZID=Europe/Berlin:20260414T211500
UID:261-4120-1-20260414T180000@VHSLANDKREIS KONSTANZ EV
SUMMARY:Deutsch A1/1 Integrationskurs Modul 1, Teilzeitkurs am Abend (261-4120-1) 
LOCATION:Singen; vhs, Raum O.6, Theodor-Hanloser-Straße 19, 78224 Singen (Hohentwiel) 
END:VEVENT
BEGIN:VEVENT
DTSTAMP:20260420T131856
DTSTART;TZID=Europe/Berlin:20260415T180000
DTEND;TZID=Europe/Berlin:20260415T211500
UID:261-4120-1-20260415T180000@VHSLANDKREIS KONSTANZ EV
SUMMARY:Deutsch A1/1 Integrationskurs Modul 1, Teilzeitkurs am Abend (261-4120-1) 
LOCATION:Singen; vhs, Raum O.6, Theodor-Hanloser-Straße 19, 78224 Singen (Hohentwiel) 
END:VEVENT
BEGIN:VEVENT
DTSTAMP:20260420T131856
DTSTART;TZID=Europe/Berlin:20260420T180000
DTEND;TZID=Europe/Berlin:20260420T211500
UID:261-4120-1-20260420T180000@VHSLANDKREIS KONSTANZ EV
SUMMARY:Deutsch A1/1 Integrationskurs Modul 1, Teilzeitkurs am Abend (261-4120-1) 
LOCATION:Singen; vhs, Raum O.6, Theodor-Hanloser-Straße 19, 78224 Singen (Hohentwiel) 
END:VEVENT
BEGIN:VEVENT
DTSTAMP:20260420T131856
DTSTART;TZID=Europe/Berlin:20260421T180000
DTEND;TZID=Europe/Berlin:20260421T211500
UID:261-4120-1-20260421T180000@VHSLANDKREIS KONSTANZ EV
SUMMARY:Deutsch A1/1 Integrationskurs Modul 1, Teilzeitkurs am Abend (261-4120-1) 
LOCATION:Singen; vhs, Raum O.6, Theodor-Hanloser-Straße 19, 78224 Singen (Hohentwiel) 
END:VEVENT
BEGIN:VEVENT
DTSTAMP:20260420T131856
DTSTART;TZID=Europe/Berlin:20260422T180000
DTEND;TZID=Europe/Berlin:20260422T211500
UID:261-4120-1-20260422T180000@VHSLANDKREIS KONSTANZ EV
SUMMARY:Deutsch A1/1 Integrationskurs Modul 1, Teilzeitkurs am Abend (261-4120-1) 
LOCATION:Singen; vhs, Raum O.6, Theodor-Hanloser-Straße 19, 78224 Singen (Hohentwiel) 
END:VEVENT
BEGIN:VEVENT
DTSTAMP:20260420T131856
DTSTART;TZID=Europe/Berlin:20260427T180000
DTEND;TZID=Europe/Berlin:20260427T211500
UID:261-4120-1-20260427T180000@VHSLANDKREIS KONSTANZ EV
SUMMARY:Deutsch A1/1 Integrationskurs Modul 1, Teilzeitkurs am Abend (261-4120-1) 
LOCATION:Singen; vhs, Raum O.6, Theodor-Hanloser-Straße 19, 78224 Singen (Hohentwiel) 
END:VEVENT
BEGIN:VEVENT
DTSTAMP:20260420T131856
DTSTART;TZID=Europe/Berlin:20260428T180000
DTEND;TZID=Europe/Berlin:20260428T211500
UID:261-4120-1-20260428T180000@VHSLANDKREIS KONSTANZ EV
SUMMARY:Deutsch A1/1 Integrationskurs Modul 1, Teilzeitkurs am Abend (261-4120-1) 
LOCATION:Singen; vhs, Raum O.6, Theodor-Hanloser-Straße 19, 78224 Singen (Hohentwiel) 
END:VEVENT
BEGIN:VEVENT
DTSTAMP:20260420T131856
DTSTART;TZID=Europe/Berlin:20260504T180000
DTEND;TZID=Europe/Berlin:20260504T211500
UID:261-4120-1-20260504T180000@VHSLANDKREIS KONSTANZ EV
SUMMARY:Deutsch A1/1 Integrationskurs Modul 1, Teilzeitkurs am Abend (261-4120-1) 
LOCATION:Singen; vhs, Raum O.6, Theodor-Hanloser-Straße 19, 78224 Singen (Hohentwiel) 
END:VEVENT
BEGIN:VEVENT
DTSTAMP:20260420T131856
DTSTART;TZID=Europe/Berlin:20260505T180000
DTEND;TZID=Europe/Berlin:20260505T211500
UID:261-4120-1-20260505T180000@VHSLANDKREIS KONSTANZ EV
SUMMARY:Deutsch A1/1 Integrationskurs Modul 1, Teilzeitkurs am Abend (261-4120-1) 
LOCATION:Singen; vhs, Raum O.6, Theodor-Hanloser-Straße 19, 78224 Singen (Hohentwiel) 
END:VEVENT
BEGIN:VEVENT
DTSTAMP:20260420T131856
DTSTART;TZID=Europe/Berlin:20260506T180000
DTEND;TZID=Europe/Berlin:20260506T211500
UID:261-4120-1-20260506T180000@VHSLANDKREIS KONSTANZ EV
SUMMARY:Deutsch A1/1 Integrationskurs Modul 1, Teilzeitkurs am Abend (261-4120-1) 
LOCATION:Singen; vhs, Raum O.6, Theodor-Hanloser-Straße 19, 78224 Singen (Hohentwiel) 
END:VEVENT
BEGIN:VEVENT
DTSTAMP:20260420T131856
DTSTART;TZID=Europe/Berlin:20260511T180000
DTEND;TZID=Europe/Berlin:20260511T211500
UID:261-4120-1-20260511T180000@VHSLANDKREIS KONSTANZ EV
SUMMARY:Deutsch A1/1 Integrationskurs Modul 1, Teilzeitkurs am Abend (261-4120-1) 
LOCATION:Singen; vhs, Raum O.6, Theodor-Hanloser-Straße 19, 78224 Singen (Hohentwiel) 
END:VEVENT
BEGIN:VEVENT
DTSTAMP:20260420T131856
DTSTART;TZID=Europe/Berlin:20260512T180000
DTEND;TZID=Europe/Berlin:20260512T211500
UID:261-4120-1-20260512T180000@VHSLANDKREIS KONSTANZ EV
DESCRIPTION:Ersatz für Ausfall am 29.04.2026
SUMMARY:Deutsch A1/1 Integrationskurs Modul 1, Teilzeitkurs am Abend (261-4120-1) 
LOCATION:Singen; vhs, Raum O.6, Theodor-Hanloser-Straße 19, 78224 Singen (Hohentwiel) 
END:VEVENT
END:VCALENDAR